Package: tidySummarizedExperiment Version: 1.17.0 Command: /home/biocbuild/bbs-3.21-bioc/R/bin/R CMD check --install=check:tidySummarizedExperiment.install-out.txt --library=/home/biocbuild/bbs-3.21-bioc/R/site-library --timings tidySummarizedExperiment_1.17.0.tar.gz StartedAt: 2025-02-04 03:27:52 -0500 (Tue, 04 Feb 2025) EndedAt: 2025-02-04 03:32:17 -0500 (Tue, 04 Feb 2025) EllapsedTime: 265.3 seconds RetCode: 0 Status: OK CheckDir: tidySummarizedExperiment.Rcheck Warnings: 0