Package: tidySummarizedExperiment Version: 1.17.0 Command: /Library/Frameworks/R.framework/Resources/bin/R CMD INSTALL tidySummarizedExperiment StartedAt: 2025-02-05 15:25:45 -0500 (Wed, 05 Feb 2025) EndedAt: 2025-02-05 15:26:20 -0500 (Wed, 05 Feb 2025) EllapsedTime: 35.4 seconds RetCode: 0 Status: OK