Package: tidySummarizedExperiment Version: 1.17.0 Command: /Library/Frameworks/R.framework/Resources/bin/R CMD build --keep-empty-dirs --no-resave-data tidySummarizedExperiment StartedAt: 2025-02-05 18:34:46 -0500 (Wed, 05 Feb 2025) EndedAt: 2025-02-05 18:35:30 -0500 (Wed, 05 Feb 2025) EllapsedTime: 44.5 seconds RetCode: 0 Status: OK PackageFile: tidySummarizedExperiment_1.17.0.tar.gz PackageFileSize: 364.2 KiB