Package: tidySummarizedExperiment Version: 1.17.0 Command: rm -rf tidySummarizedExperiment.buildbin-libdir && mkdir tidySummarizedExperiment.buildbin-libdir && /Users/biocbuild/BBS/utils/build-universal.sh tidySummarizedExperiment_1.17.0.tar.gz /Library/Frameworks/R.framework/Resources/bin/R tidySummarizedExperiment.buildbin-libdir StartedAt: 2025-02-03 00:49:08 -0500 (Mon, 03 Feb 2025) EndedAt: 2025-02-03 00:49:46 -0500 (Mon, 03 Feb 2025) EllapsedTime: 38.2 seconds RetCode: 0 Status: OK PackageFile: tidySummarizedExperiment_1.17.0.tgz PackageFileSize: 681.7 KiB