Package: tidySummarizedExperiment Version: 1.17.0 Command: /Library/Frameworks/R.framework/Resources/bin/R CMD build --keep-empty-dirs --no-resave-data tidySummarizedExperiment StartedAt: 2025-02-03 18:25:04 -0500 (Mon, 03 Feb 2025) EndedAt: 2025-02-03 18:25:21 -0500 (Mon, 03 Feb 2025) EllapsedTime: 17.2 seconds RetCode: 0 Status: OK PackageFile: tidySummarizedExperiment_1.17.0.tar.gz PackageFileSize: 367.7 KiB