Package: tidySingleCellExperiment Version: 1.19.0 Command: /home/biocbuild/R/R/bin/R CMD INSTALL tidySingleCellExperiment StartedAt: 2025-10-09 21:13:43 -0000 (Thu, 09 Oct 2025) EndedAt: 2025-10-09 21:14:20 -0000 (Thu, 09 Oct 2025) EllapsedTime: 36.9 seconds RetCode: 0 Status: OK