Package: tidySingleCellExperiment Version: 1.19.0 Command: /home/biocbuild/R/R/bin/R CMD build --keep-empty-dirs --no-resave-data tidySingleCellExperiment StartedAt: 2025-10-10 04:45:11 -0000 (Fri, 10 Oct 2025) EndedAt: 2025-10-10 04:47:13 -0000 (Fri, 10 Oct 2025) EllapsedTime: 122.0 seconds RetCode: 0 Status: OK PackageFile: tidySingleCellExperiment_1.19.0.tar.gz PackageFileSize: 1.368 MiB