Package: tidySingleCellExperiment Version: 1.17.0 Command: E:\biocbuild\bbs-3.21-bioc\R\bin\R.exe CMD check --no-multiarch --install=check:tidySingleCellExperiment.install-out.txt --library=E:\biocbuild\bbs-3.21-bioc\R\library --no-vignettes --timings tidySingleCellExperiment_1.17.0.tar.gz StartedAt: 2025-02-15 06:20:31 -0500 (Sat, 15 Feb 2025) EndedAt: 2025-02-15 06:25:11 -0500 (Sat, 15 Feb 2025) EllapsedTime: 280.0 seconds RetCode: 0 Status: OK CheckDir: tidySingleCellExperiment.Rcheck Warnings: 0