Package: tidySingleCellExperiment Version: 1.19.1 Command: /home/biocbuild/bbs-3.22-bioc/R/bin/R CMD check --install=check:tidySingleCellExperiment.install-out.txt --library=/home/biocbuild/bbs-3.22-bioc/R/site-library --timings tidySingleCellExperiment_1.19.1.tar.gz StartedAt: 2025-10-21 05:35:10 -0400 (Tue, 21 Oct 2025) EndedAt: 2025-10-21 05:39:53 -0400 (Tue, 21 Oct 2025) EllapsedTime: 282.2 seconds RetCode: 0 Status: OK CheckDir: tidySingleCellExperiment.Rcheck Warnings: 0