Package: tidySingleCellExperiment Version: 1.17.0 Command: /Library/Frameworks/R.framework/Resources/bin/R CMD build --keep-empty-dirs --no-resave-data tidySingleCellExperiment StartedAt: 2025-02-14 18:27:29 -0500 (Fri, 14 Feb 2025) EndedAt: 2025-02-14 18:28:50 -0500 (Fri, 14 Feb 2025) EllapsedTime: 81.1 seconds RetCode: 0 Status: OK PackageFile: tidySingleCellExperiment_1.17.0.tar.gz PackageFileSize: 1.811 MiB