Package: tidyFlowCore Version: 1.3.0 Command: /home/biocbuild/R/R/bin/R CMD check --install=check:tidyFlowCore.install-out.txt --library=/home/biocbuild/R/R/site-library --no-vignettes --timings tidyFlowCore_1.3.0.tar.gz StartedAt: 2025-10-17 14:28:12 -0000 (Fri, 17 Oct 2025) EndedAt: 2025-10-17 14:30:24 -0000 (Fri, 17 Oct 2025) EllapsedTime: 132.2 seconds RetCode: 0 Status: OK CheckDir: tidyFlowCore.Rcheck Warnings: 0