Package: tidyFlowCore Version: 1.5.0 Command: /home/biocbuild/bbs-3.23-bioc/R/bin/R CMD build --keep-empty-dirs --no-resave-data tidyFlowCore StartedAt: 2025-11-02 20:22:23 -0500 (Sun, 02 Nov 2025) EndedAt: 2025-11-02 20:23:17 -0500 (Sun, 02 Nov 2025) EllapsedTime: 54.1 seconds RetCode: 0 Status: OK PackageFile: tidyFlowCore_1.5.0.tar.gz PackageFileSize: 783.8 KiB