Package: tidyFlowCore Version: 1.3.0 Command: /Library/Frameworks/R.framework/Resources/bin/R CMD INSTALL tidyFlowCore StartedAt: 2025-07-25 15:07:58 -0400 (Fri, 25 Jul 2025) EndedAt: 2025-07-25 15:08:02 -0400 (Fri, 25 Jul 2025) EllapsedTime: 4.0 seconds RetCode: 0 Status: OK