Package: tidyCoverage Version: 1.5.0 Command: /home/biocbuild/R/R/bin/R CMD INSTALL tidyCoverage StartedAt: 2025-07-24 21:28:50 -0000 (Thu, 24 Jul 2025) EndedAt: 2025-07-24 21:29:41 -0000 (Thu, 24 Jul 2025) EllapsedTime: 50.9 seconds RetCode: 0 Status: OK