Package: tidyCoverage Version: 1.5.0 Command: /home/biocbuild/R/R/bin/R CMD build --keep-empty-dirs --no-resave-data tidyCoverage StartedAt: 2025-07-25 04:23:10 -0000 (Fri, 25 Jul 2025) EndedAt: 2025-07-25 04:27:16 -0000 (Fri, 25 Jul 2025) EllapsedTime: 246.1 seconds RetCode: 0 Status: OK PackageFile: tidyCoverage_1.5.0.tar.gz PackageFileSize: 3.794 MiB