Package: tidyCoverage Version: 1.3.0 Command: /Library/Frameworks/R.framework/Resources/bin/R CMD INSTALL tidyCoverage StartedAt: 2025-01-10 15:08:59 -0500 (Fri, 10 Jan 2025) EndedAt: 2025-01-10 15:09:13 -0500 (Fri, 10 Jan 2025) EllapsedTime: 14.2 seconds RetCode: 0 Status: OK