Package: terraTCGAdata Version: 1.13.0 Command: rm -rf terraTCGAdata.buildbin-libdir && mkdir terraTCGAdata.buildbin-libdir && F:\biocbuild\bbs-3.22-bioc\R\bin\R.exe CMD INSTALL --build --library=terraTCGAdata.buildbin-libdir terraTCGAdata_1.13.0.tar.gz StartedAt: 2025-08-15 11:29:14 -0400 (Fri, 15 Aug 2025) EndedAt: 2025-08-15 11:29:46 -0400 (Fri, 15 Aug 2025) EllapsedTime: 32.7 seconds RetCode: 0 Status: OK PackageFile: terraTCGAdata_1.13.0.zip PackageFileSize: 277.8 KiB