Package: terraTCGAdata Version: 1.11.0 Command: /home/biocbuild/bbs-3.21-bioc/R/bin/R CMD INSTALL terraTCGAdata StartedAt: 2025-02-02 15:30:19 -0500 (Sun, 02 Feb 2025) EndedAt: 2025-02-02 15:30:44 -0500 (Sun, 02 Feb 2025) EllapsedTime: 25.6 seconds RetCode: 0 Status: OK