Package: terraTCGAdata Version: 1.11.0 Command: /home/biocbuild/bbs-3.21-bioc/R/bin/R CMD build --keep-empty-dirs --no-resave-data terraTCGAdata StartedAt: 2025-02-02 19:29:42 -0500 (Sun, 02 Feb 2025) EndedAt: 2025-02-02 19:30:15 -0500 (Sun, 02 Feb 2025) EllapsedTime: 33.4 seconds RetCode: 0 Status: OK PackageFile: terraTCGAdata_1.11.0.tar.gz PackageFileSize: 234.2 KiB