Package: ternarynet Version: 1.53.0 Command: rm -rf ternarynet.buildbin-libdir && mkdir ternarynet.buildbin-libdir && /Users/biocbuild/BBS/utils/build-universal.sh ternarynet_1.53.0.tar.gz /Library/Frameworks/R.framework/Resources/bin/R ternarynet.buildbin-libdir StartedAt: 2025-10-25 02:08:21 -0400 (Sat, 25 Oct 2025) EndedAt: 2025-10-25 02:08:39 -0400 (Sat, 25 Oct 2025) EllapsedTime: 17.5 seconds RetCode: 0 Status: OK PackageFile: ternarynet_1.53.0.tgz PackageFileSize: 568.9 KiB