Package: terapadog Version: 1.1.0 Command: /home/biocbuild/bbs-3.22-bioc/R/bin/R CMD INSTALL terapadog StartedAt: 2025-10-24 15:36:50 -0400 (Fri, 24 Oct 2025) EndedAt: 2025-10-24 15:37:21 -0400 (Fri, 24 Oct 2025) EllapsedTime: 30.3 seconds RetCode: 0 Status: OK