Package: terapadog Version: 1.1.0 Command: /home/biocbuild/bbs-3.22-bioc/R/bin/R CMD build --keep-empty-dirs --no-resave-data --md5 terapadog StartedAt: 2025-10-24 20:37:16 -0400 (Fri, 24 Oct 2025) EndedAt: 2025-10-24 20:38:44 -0400 (Fri, 24 Oct 2025) EllapsedTime: 88.1 seconds RetCode: 0 Status: OK PackageFile: terapadog_1.1.0.tar.gz PackageFileSize: 1.496 MiB