Package: target Version: 1.23.1 Command: /home/biocbuild/bbs-3.22-bioc/R/bin/R CMD INSTALL target StartedAt: 2025-10-10 16:08:48 -0400 (Fri, 10 Oct 2025) EndedAt: 2025-10-10 16:08:59 -0400 (Fri, 10 Oct 2025) EllapsedTime: 10.3 seconds RetCode: 0 Status: OK