Package: tanggle Version: 1.15.2 Command: /home/biocbuild/bbs-3.22-bioc/R/bin/R CMD build --keep-empty-dirs --no-resave-data --md5 tanggle StartedAt: 2025-09-21 20:21:43 -0400 (Sun, 21 Sep 2025) EndedAt: 2025-09-21 20:22:08 -0400 (Sun, 21 Sep 2025) EllapsedTime: 25.0 seconds RetCode: 0 Status: OK PackageFile: tanggle_1.15.2.tar.gz PackageFileSize: 2.097 MiB