Package: tanggle Version: 1.15.0 Maintainer: Klaus Schliep MaintainerEmail: klaus.schliep at gmail.com git_url: https://git.bioconductor.org/packages/tanggle git_branch: devel git_last_commit: 3b9da35 git_last_commit_date: 2025-04-15 12:37:36 -0400 (Tue, 15 Apr 2025)