Package: tadar Version: 1.7.0 Command: rm -rf tadar.buildbin-libdir && mkdir tadar.buildbin-libdir && /Users/biocbuild/BBS/utils/build-universal.sh tadar_1.7.0.tar.gz /Library/Frameworks/R.framework/Resources/bin/R tadar.buildbin-libdir StartedAt: 2025-05-03 01:10:04 -0400 (Sat, 03 May 2025) EndedAt: 2025-05-03 01:11:13 -0400 (Sat, 03 May 2025) EllapsedTime: 69.2 seconds RetCode: 0 Status: OK PackageFile: tadar_1.7.0.tgz PackageFileSize: 1.489 MiB