Package: tRanslatome Version: 1.47.0 Command: /home/biocbuild/R/R/bin/R CMD INSTALL tRanslatome StartedAt: 2025-09-29 21:21:13 -0000 (Mon, 29 Sep 2025) EndedAt: 2025-09-29 21:22:09 -0000 (Mon, 29 Sep 2025) EllapsedTime: 56.2 seconds RetCode: 0 Status: OK