Package: tRanslatome Version: 1.47.0 Command: /home/biocbuild/R/R/bin/R CMD build --keep-empty-dirs --no-resave-data tRanslatome StartedAt: 2025-10-21 03:50:05 -0000 (Tue, 21 Oct 2025) EndedAt: 2025-10-21 03:51:59 -0000 (Tue, 21 Oct 2025) EllapsedTime: 114.0 seconds RetCode: 0 Status: OK PackageFile: tRanslatome_1.47.0.tar.gz PackageFileSize: 928.9 KiB