Package: tRanslatome Version: 1.47.0 Command: /Library/Frameworks/R.framework/Resources/bin/R CMD INSTALL tRanslatome StartedAt: 2025-05-18 15:33:56 -0400 (Sun, 18 May 2025) EndedAt: 2025-05-18 15:34:54 -0400 (Sun, 18 May 2025) EllapsedTime: 58.2 seconds RetCode: 0 Status: OK