Package: tRanslatome Version: 1.47.0 Command: /Library/Frameworks/R.framework/Resources/bin/R CMD build --keep-empty-dirs --no-resave-data tRanslatome StartedAt: 2025-10-20 19:55:17 -0400 (Mon, 20 Oct 2025) EndedAt: 2025-10-20 19:57:26 -0400 (Mon, 20 Oct 2025) EllapsedTime: 128.7 seconds RetCode: 0 Status: OK PackageFile: tRanslatome_1.47.0.tar.gz PackageFileSize: 934.6 KiB