Package: tRanslatome Version: 1.45.0 Command: /Library/Frameworks/R.framework/Resources/bin/R CMD INSTALL tRanslatome StartedAt: 2025-01-31 15:22:05 -0500 (Fri, 31 Jan 2025) EndedAt: 2025-01-31 15:22:23 -0500 (Fri, 31 Jan 2025) EllapsedTime: 17.9 seconds RetCode: 0 Status: OK