Package: tRanslatome Version: 1.45.0 Command: /Library/Frameworks/R.framework/Resources/bin/R CMD check --install=check:tRanslatome.install-out.txt --library=/Library/Frameworks/R.framework/Resources/library --no-vignettes --timings tRanslatome_1.45.0.tar.gz StartedAt: 2025-01-31 21:50:46 -0500 (Fri, 31 Jan 2025) EndedAt: 2025-01-31 21:52:40 -0500 (Fri, 31 Jan 2025) EllapsedTime: 114.4 seconds RetCode: 0 Status: OK CheckDir: tRanslatome.Rcheck Warnings: 0