Package: tRNAscanImport Version: 1.29.1 Command: rm -rf tRNAscanImport.buildbin-libdir && mkdir tRNAscanImport.buildbin-libdir && F:\biocbuild\bbs-3.22-bioc\R\bin\R.exe CMD INSTALL --build --library=tRNAscanImport.buildbin-libdir tRNAscanImport_1.29.1.tar.gz StartedAt: 2025-08-15 11:32:35 -0400 (Fri, 15 Aug 2025) EndedAt: 2025-08-15 11:33:57 -0400 (Fri, 15 Aug 2025) EllapsedTime: 81.1 seconds RetCode: 0 Status: OK PackageFile: tRNAscanImport_1.29.1.zip PackageFileSize: 500.9 KiB