Package: tRNA Version: 1.27.1 Command: rm -rf tRNA.buildbin-libdir && mkdir tRNA.buildbin-libdir && F:\biocbuild\bbs-3.22-bioc\R\bin\R.exe CMD INSTALL --build --library=tRNA.buildbin-libdir tRNA_1.27.1.tar.gz StartedAt: 2025-08-15 11:32:31 -0400 (Fri, 15 Aug 2025) EndedAt: 2025-08-15 11:33:17 -0400 (Fri, 15 Aug 2025) EllapsedTime: 45.5 seconds RetCode: 0 Status: OK PackageFile: tRNA_1.27.1.zip PackageFileSize: 769.3 KiB