Package: tRNA Version: 1.25.0 Command: E:\biocbuild\bbs-3.21-bioc\R\bin\R.exe CMD INSTALL tRNA StartedAt: 2025-02-03 16:04:30 -0500 (Mon, 03 Feb 2025) EndedAt: 2025-02-03 16:05:02 -0500 (Mon, 03 Feb 2025) EllapsedTime: 32.1 seconds RetCode: 0 Status: OK