Package: tRNA Version: 1.25.0 Command: E:\biocbuild\bbs-3.21-bioc\R\bin\R.exe CMD check --no-multiarch --install=check:tRNA.install-out.txt --library=E:\biocbuild\bbs-3.21-bioc\R\library --no-vignettes --timings tRNA_1.25.0.tar.gz StartedAt: 2025-02-04 06:49:04 -0500 (Tue, 04 Feb 2025) EndedAt: 2025-02-04 06:52:59 -0500 (Tue, 04 Feb 2025) EllapsedTime: 234.8 seconds RetCode: 0 Status: OK CheckDir: tRNA.Rcheck Warnings: 0