Package: tRNA Version: 1.25.0 Command: chmod a+r tRNA -R && E:\biocbuild\bbs-3.21-bioc\R\bin\R.exe CMD build --keep-empty-dirs --no-resave-data tRNA StartedAt: 2025-02-05 22:17:59 -0500 (Wed, 05 Feb 2025) EndedAt: 2025-02-05 22:21:06 -0500 (Wed, 05 Feb 2025) EllapsedTime: 187.3 seconds RetCode: 0 Status: OK PackageFile: tRNA_1.25.0.tar.gz PackageFileSize: 588.2 KiB