Package: tRNA Version: 1.25.0 Command: /home/biocbuild/bbs-3.21-bioc/R/bin/R CMD check --install=check:tRNA.install-out.txt --library=/home/biocbuild/bbs-3.21-bioc/R/site-library --timings tRNA_1.25.0.tar.gz StartedAt: 2025-02-04 03:39:55 -0500 (Tue, 04 Feb 2025) EndedAt: 2025-02-04 03:45:32 -0500 (Tue, 04 Feb 2025) EllapsedTime: 337.5 seconds RetCode: 0 Status: OK CheckDir: tRNA.Rcheck Warnings: 0