Package: tRNA Version: 1.25.0 Command: /home/biocbuild/bbs-3.21-bioc/R/bin/R CMD build --keep-empty-dirs --no-resave-data tRNA StartedAt: 2025-02-03 19:48:41 -0500 (Mon, 03 Feb 2025) EndedAt: 2025-02-03 19:51:11 -0500 (Mon, 03 Feb 2025) EllapsedTime: 150.2 seconds RetCode: 0 Status: OK PackageFile: tRNA_1.25.0.tar.gz PackageFileSize: 1.238 MiB