Package: tRNA Version: 1.25.0 Command: /Library/Frameworks/R.framework/Resources/bin/R CMD INSTALL tRNA StartedAt: 2025-02-05 15:11:31 -0500 (Wed, 05 Feb 2025) EndedAt: 2025-02-05 15:11:56 -0500 (Wed, 05 Feb 2025) EllapsedTime: 25.5 seconds RetCode: 0 Status: OK