Package: tRNA Version: 1.25.0 Command: /Library/Frameworks/R.framework/Resources/bin/R CMD check --install=check:tRNA.install-out.txt --library=/Library/Frameworks/R.framework/Resources/library --no-vignettes --timings tRNA_1.25.0.tar.gz StartedAt: 2025-02-05 23:52:02 -0500 (Wed, 05 Feb 2025) EndedAt: 2025-02-05 23:56:17 -0500 (Wed, 05 Feb 2025) EllapsedTime: 255.6 seconds RetCode: 0 Status: OK CheckDir: tRNA.Rcheck Warnings: 0