Package: tRNA Version: 1.25.0 Command: /Library/Frameworks/R.framework/Resources/bin/R CMD build --keep-empty-dirs --no-resave-data tRNA StartedAt: 2025-04-14 18:45:11 -0400 (Mon, 14 Apr 2025) EndedAt: 2025-04-14 18:48:05 -0400 (Mon, 14 Apr 2025) EllapsedTime: 173.8 seconds RetCode: 0 Status: OK PackageFile: tRNA_1.25.0.tar.gz PackageFileSize: 1.292 MiB