Package: tRNA Version: 1.25.0 Command: /home/biocbuild/R/R/bin/R CMD INSTALL tRNA StartedAt: 2025-01-29 19:43:54 -0000 (Wed, 29 Jan 2025) EndedAt: 2025-01-29 19:44:15 -0000 (Wed, 29 Jan 2025) EllapsedTime: 21.3 seconds RetCode: 0 Status: OK