Package: tRNA Version: 1.25.0 Command: /home/biocbuild/R/R/bin/R CMD check --install=check:tRNA.install-out.txt --library=/home/biocbuild/R/R/site-library --no-vignettes --timings tRNA_1.25.0.tar.gz StartedAt: 2025-01-27 13:41:39 -0000 (Mon, 27 Jan 2025) EndedAt: 2025-01-27 13:47:18 -0000 (Mon, 27 Jan 2025) EllapsedTime: 338.8 seconds RetCode: 0 Status: OK CheckDir: tRNA.Rcheck Warnings: 0