Package: tRNA Version: 1.25.0 Command: /home/biocbuild/R/R/bin/R CMD build --keep-empty-dirs --no-resave-data tRNA StartedAt: 2025-01-28 03:02:16 -0000 (Tue, 28 Jan 2025) EndedAt: 2025-01-28 03:06:19 -0000 (Tue, 28 Jan 2025) EllapsedTime: 243.1 seconds RetCode: 0 Status: OK PackageFile: tRNA_1.25.0.tar.gz PackageFileSize: 806.4 KiB