Package: tRNA Version: 1.25.0 Command: /Library/Frameworks/R.framework/Resources/bin/R CMD check --install=check:tRNA.install-out.txt --library=/Library/Frameworks/R.framework/Resources/library --no-vignettes --timings tRNA_1.25.0.tar.gz StartedAt: 2025-02-03 22:26:31 -0500 (Mon, 03 Feb 2025) EndedAt: 2025-02-03 22:27:42 -0500 (Mon, 03 Feb 2025) EllapsedTime: 70.8 seconds RetCode: 0 Status: OK CheckDir: tRNA.Rcheck Warnings: 0