Package: tRNA Version: 1.25.0 Maintainer: Felix GM Ernst MaintainerEmail: felix.gm.ernst at outlook.com git_url: https://git.bioconductor.org/packages/tRNA git_branch: devel git_last_commit: 41b4ba9 git_last_commit_date: 2024-10-29 10:32:27 -0500 (Tue, 29 Oct 2024)