Package: tLOH Version: 1.17.0 Command: chmod a+r tLOH -R && F:\biocbuild\bbs-3.22-bioc\R\bin\R.exe CMD build --keep-empty-dirs --no-resave-data tLOH StartedAt: 2025-08-14 23:47:12 -0400 (Thu, 14 Aug 2025) EndedAt: 2025-08-14 23:48:48 -0400 (Thu, 14 Aug 2025) EllapsedTime: 96.0 seconds RetCode: 0 Status: OK PackageFile: tLOH_1.17.0.tar.gz PackageFileSize: 1.732 MiB