Package: tLOH Version: 1.17.0 Command: /Library/Frameworks/R.framework/Resources/bin/R CMD INSTALL tLOH StartedAt: 2025-05-01 15:34:06 -0400 (Thu, 01 May 2025) EndedAt: 2025-05-01 15:35:05 -0400 (Thu, 01 May 2025) EllapsedTime: 59.5 seconds RetCode: 0 Status: OK