Package: systemPipeTools Version: 1.17.0 Command: /home/biocbuild/R/R/bin/R CMD build --keep-empty-dirs --no-resave-data systemPipeTools StartedAt: 2025-10-03 03:43:50 -0000 (Fri, 03 Oct 2025) EndedAt: 2025-10-03 03:45:20 -0000 (Fri, 03 Oct 2025) EllapsedTime: 90.0 seconds RetCode: 0 Status: OK PackageFile: systemPipeTools_1.17.0.tar.gz PackageFileSize: 719.8 KiB